BEGIN:VCALENDAR
VERSION:2.0
PRODID:-//https://www.perform-as.ch///NONSGML kigkonsult.se iCalcreator 2.10.15//
METHOD:PUBLISH
BEGIN:VEVENT
UID:20260421T113451CEST-8601CSVMDh@https://www.perform-as.ch/
DTSTAMP:20260421T093451Z
DESCRIPTION:Familiarisez-vous avec une des langues les plus parlées dans le
  monde\, après le chinois et l'anglais.\nObjectifs\nÀ la fin de ce cours\,
  les participants pourront s'exprimer dans un langage simple et faire face
  à des situations de la vie quotidienne.\nPublic cible\nToute personne dés
 ireuse de s'initier à l'espagnol ou de rafraîchir ses connaissances de bas
 e.\nContenu\n\nExpression orale\nGrammaire de base\n\nMéthode\nConversatio
 n\, écoute de textes et dialogues\, exercices\, travail à domicile.\nPrére
 quis\nAucun\nDurée\n30 périodes10 soirées (jeudi)De 18 h 30 à 21 h\nCoût\n
 Écolage :                   CHF 600.-Documentation :         CHF 90.- http
 s://www.perform-as.ch/formations/evenement/459-espagnol---debutant
DTSTART:20250925T183000Z
DTEND:20251211T210000Z
LOCATION:PERFORM\, c/o Centre professionnel du Nord Vaudois (CPNV)  (Rue Ro
 ger-de-Guimps 41\, 1400 Yverdon-les-Bains\, Suisse)
SUMMARY:Espagnol – Débutant
URL:https://www.perform-as.ch/formations/evenement/459-espagnol---debutant
END:VEVENT
END:VCALENDAR
